{
 "currentVersion": 10.91,
 "serviceDescription": "Planer_Origo/GeoRasterPlan23",
 "name": "Planer_Origo/GeoRasterPlan23",
 "description": "",
 "extent": {
  "xmin": 606143.35476332,
  "ymin": 6626402.837317865,
  "xmax": 636358.4892158064,
  "ymax": 6661880.042939674,
  "spatialReference": {
   "wkid": 25832,
   "latestWkid": 25832
  }
 },
 "initialExtent": {
  "xmin": 606143.35476332,
  "ymin": 6626402.837317865,
  "xmax": 636358.4892158064,
  "ymax": 6661880.042939674,
  "spatialReference": {
   "wkid": 25832,
   "latestWkid": 25832
  }
 },
 "fullExtent": {
  "xmin": 606143.35476332,
  "ymin": 6626402.837317865,
  "xmax": 636358.4892158064,
  "ymax": 6661880.042939674,
  "spatialReference": {
   "wkid": 25832,
   "latestWkid": 25832
  }
 },
 "hasMultidimensions": false,
 "pixelSizeX": 0.09999945210700013,
 "pixelSizeY": 0.09999945210699986,
 "datasetFormat": "GRID Stack 7.x",
 "uncompressedSize": 643176170532,
 "blockWidth": 256,
 "blockHeight": 16,
 "compressionType": "None",
 "bandNames": [
  "georeferc1",
  "georeferc2",
  "georeferc3"
 ],
 "allowCopy": true,
 "allowAnalysis": true,
 "bandCount": 3,
 "noDataValue": -32768,
 "noDataValues": [
  -32768,
  -32768,
  -32768
 ],
 "pixelType": "S16",
 "minPixelSize": 0,
 "maxPixelSize": 0,
 "copyrightText": "",
 "serviceDataType": "esriImageServiceDataTypeGeneric",
 "serviceSourceType": "esriImageServiceSourceTypeDataset",
 "minValues": [
  0,
  0,
  0
 ],
 "maxValues": [
  255,
  255,
  255
 ],
 "meanValues": [
  168.95836942926164,
  169.17240495916403,
  121.82497646384454
 ],
 "stdvValues": [
  62.67924201941591,
  39.6212208912302,
  57.25751597218078
 ],
 "objectIdField": "",
 "fields": [],
 "capabilities": "Image,Metadata,Mensuration",
 "defaultMosaicMethod": "Center",
 "allowedMosaicMethods": "",
 "sortField": "",
 "sortValue": null,
 "sortAscending": true,
 "mosaicOperator": "First",
 "defaultCompressionQuality": 75,
 "defaultResamplingMethod": "Bilinear",
 "maxImageHeight": 4100,
 "maxImageWidth": 15000,
 "allowRasterFunction": true,
 "rasterFunctionInfos": [
  {
   "name": "None",
   "description": "",
   "help": ""
  }
 ],
 "rasterTypeInfos": [
  {
   "name": "Raster Dataset",
   "description": "Supports all ArcGIS Raster Datasets",
   "help": ""
  }
 ],
 "mensurationCapabilities": "Basic",
 "hasHistograms": true,
 "hasColormap": false,
 "hasRasterAttributeTable": false,
 "minScale": 0,
 "maxScale": 0,
 "exportTilesAllowed": false,
 "supportsStatistics": false,
 "supportsAdvancedQueries": false,
 "editFieldsInfo": null,
 "ownershipBasedAccessControlForRasters": null,
 "allowComputeTiePoints": false,
 "useStandardizedQueries": true,
 "advancedQueryCapabilities": {
  "useStandardizedQueries": true,
  "supportsStatistics": false,
  "supportsOrderBy": false,
  "supportsDistinct": false,
  "supportsPagination": false
 },
 "spatialReference": {
  "wkid": 25832,
  "latestWkid": 25832
 }
}
