View In:
ArcGIS JavaScript
ArcGIS Online Map Viewer
ArcGIS Earth
ArcMap
View Footprint In:
ArcGIS Online Map Viewer
Service Description: Plankart/GeoreferertePlaner
Name: Plankart/GeoreferertePlaner
Description:
Single Fused Map Cache: false
Extent:
XMin: 606143.35476332
YMin: 6626402.84293969
XMax: 636358.4892156941
YMax: 6661880.042939674
Spatial Reference: 25832
(25832)
Initial Extent:
XMin: 606143.35476332
YMin: 6626402.84293969
XMax: 636358.4892156941
YMax: 6661880.042939674
Spatial Reference: 25832
(25832)
Full Extent:
XMin: 606143.35476332
YMin: 6626402.84293969
XMax: 636358.4892156941
YMax: 6661880.042939674
Spatial Reference: 25832
(25832)
Pixel Size X: 0.09999945210662872
Pixel Size Y: 0.0999999999999559
Band Count: 3
Pixel Type: U8
RasterFunction Infos: {"rasterFunctionInfos": [{
"name": "None",
"description": "",
"help": ""
}]}
Mensuration Capabilities: Basic
Has Histograms: true
Has Colormap: false
Has Multi Dimensions : false
Rendering Rule:
Min Scale: 0
Max Scale: 0
Copyright Text: Lillestrøm kommune
Service Data Type: esriImageServiceDataTypeRGB
Min Values: 0, 0, 0
Max Values: 255, 255, 255
Mean Values: 162.0909838419681, 170.07533742097064, 123.86372569060066
Standard Deviation Values: 69.02190494015389, 38.677577237119145, 54.20068112479028
Object ID Field:
Fields:
None
Default Mosaic Method: Center
Allowed Mosaic Methods:
SortField:
SortValue: null
Mosaic Operator: First
Default Compression Quality: 75
Default Resampling Method: Bilinear
Max Record Count: null
Max Image Height: 4100
Max Image Width: 15000
Max Download Image Count: null
Max Mosaic Image Count: null
Allow Raster Function: true
Allow Copy: null
Allow Analysis: null
Allow Compute TiePoints: false
Supports Statistics: false
Supports Advanced Queries: false
Use StandardizedQueries: true
Raster Type Infos:
Name: Raster Dataset
Description: Supports all ArcGIS Raster Datasets
Help:
Has Raster Attribute Table: false
Edit Fields Info: null
Ownership Based AccessControl For Rasters: null
Child Resources:
Info
Histograms
Key Properties
Legend
Raster Function Infos
Supported Operations:
Export Image
Identify
Measure
Compute Histograms
Compute Statistics Histograms
Get Samples
Compute Class Statistics
Query Boundary
Compute Pixel Location
Compute Angles
Validate
Project